BEGIN:VCALENDAR
VERSION:2.0
METHOD:PUBLISH
CALSCALE:GREGORIAN
PRODID:-//Refresh Web Development//Helios Calendar//EN
X-FROM-URL:https://www.bayareascience.org/calendar/index.php?com=details&eID=36823
X-WR-RELCALID:BayAreaScience.org Graphene Quantum Dots 20241104T160000
X-WR-TIMEZONE:America/New_York
X-WR-CALNAME:BayAreaScience.org
BEGIN:VEVENT
URL;VALUE=URI:https://www.bayareascience.org/calendar/index.php?com=detail&eID=36823
DTSTART:20241104T160000
DTEND:20241104T160000
SUMMARY:Graphene Quantum Dots
DESCRIPTION:Dr. Jairo Velasco of UC Santa Cruz will present a talk regarding how the harnessing and manipulation of electronic states in quantum materials has the potential to revolutionize computation\, sensing\,...\n______________________________\nThis Event Downloaded From a Helios Calendar Powered Site
LOCATION:Sonoma State University - What Physicists Do - 1801 E. Cotati Ave. Darwin Hall\, Room 103\, Rohnert Park\, CA USA 94928
CATEGORIES:BayAreaScience.org Events
PRIORITY:0
TRANSP:TRANSPARENT
END:VEVENT
END:VCALENDAR