BEGIN:VCALENDAR
VERSION:2.0
METHOD:PUBLISH
CALSCALE:GREGORIAN
PRODID:-//Refresh Web Development//Helios Calendar//EN
X-FROM-URL:https://www.bayareascience.org/calendar/index.php?com=details&eID=36824
X-WR-RELCALID:BayAreaScience.org What Physicists Do - Student Research Talks 20241007T160000
X-WR-TIMEZONE:America/New_York
X-WR-CALNAME:BayAreaScience.org
BEGIN:VEVENT
URL;VALUE=URI:https://www.bayareascience.org/calendar/index.php?com=detail&eID=36824
DTSTART:20241007T160000
DTEND:20241007T160000
SUMMARY:What Physicists Do - Student Research Talks
DESCRIPTION:Four Sonoma State Physics students will present short talks based on their summer research projects on topics including: ATLAS\, the largest general purpose particle detector experiment at the Large...\n______________________________\nThis Event Downloaded From a Helios Calendar Powered Site
LOCATION:Sonoma State University - What Physicists Do - 1801 E. Cotati Ave. Darwin Hall\, Room 103\, Rohnert Park\, CA USA 94928
CATEGORIES:BayAreaScience.org Events
PRIORITY:0
TRANSP:TRANSPARENT
END:VEVENT
END:VCALENDAR