BEGIN:VCALENDAR
VERSION:2.0
METHOD:PUBLISH
CALSCALE:GREGORIAN
PRODID:-//Refresh Web Development//Helios Calendar//EN
X-FROM-URL:https://www.bayareascience.org/calendar/index.php?com=details&eID=36827
X-WR-RELCALID:BayAreaScience.org Family Nature Adventures: Spidey Spectacular: Adventures with Arachnids! 20241109T103000
X-WR-TIMEZONE:America/New_York
X-WR-CALNAME:BayAreaScience.org
BEGIN:VEVENT
URL;VALUE=URI:https://www.bayareascience.org/calendar/index.php?com=detail&eID=36827
DTSTART:20241109T103000
DTEND:20241109T143000
SUMMARY:Family Nature Adventures: Spidey Spectacular: Adventures with Arachnids!
DESCRIPTION:Get ready for a web-tastic adventure as we dive into the amazing world of spiders and arachnids! Join us for a fun-filled workshop designed especially for young explorers\, where we’ll discover...\n______________________________\nThis Event Downloaded From a Helios Calendar Powered Site
LOCATION:Chabot Space and Science Center - 10000 Skyline Blvd \, Oakland\, CA USA 94619
CATEGORIES:BayAreaScience.org Events
PRIORITY:0
TRANSP:TRANSPARENT
END:VEVENT
END:VCALENDAR