BEGIN:VCALENDAR
VERSION:2.0
METHOD:PUBLISH
CALSCALE:GREGORIAN
PRODID:-//Refresh Web Development//Helios Calendar//EN
X-FROM-URL:https://www.bayareascience.org/calendar/index.php?com=details&eID=36828
X-WR-RELCALID:BayAreaScience.org  Ranger-Guided Hike: Alice Eastwood Loop 20240924T100000
X-WR-TIMEZONE:America/New_York
X-WR-CALNAME:BayAreaScience.org
BEGIN:VEVENT
URL;VALUE=URI:https://www.bayareascience.org/calendar/index.php?com=detail&eID=36828
DTSTART:20240924T100000
DTEND:20240924T120000
SUMMARY: Ranger-Guided Hike: Alice Eastwood Loop
DESCRIPTION:Have you ever wondered what a ranger looks at when they go for a walk in the woods? You’re invited to come with us!Ranger Katie will be leading a 3-mile guided hike along the Camp Alice...\n______________________________\nThis Event Downloaded From a Helios Calendar Powered Site
LOCATION:Mount Tamalpais State Park - 3801 Panoramic Highway \, Mill Valley\, CA USA 94941
CATEGORIES:BayAreaScience.org Events
PRIORITY:0
TRANSP:TRANSPARENT
END:VEVENT
END:VCALENDAR