BEGIN:VCALENDAR
VERSION:2.0
METHOD:PUBLISH
CALSCALE:GREGORIAN
PRODID:-//Refresh Web Development//Helios Calendar//EN
X-FROM-URL:https://www.bayareascience.org/calendar/index.php?com=details&eID=36838
X-WR-RELCALID:BayAreaScience.org Reduced Order Modeling and Inverse Design of Flexible Structures by Machine Learning 20240926T140000
X-WR-TIMEZONE:America/New_York
X-WR-CALNAME:BayAreaScience.org
BEGIN:VEVENT
URL;VALUE=URI:https://www.bayareascience.org/calendar/index.php?com=detail&eID=36838
DTSTART:20240926T140000
DTEND:20240926T150000
SUMMARY:Reduced Order Modeling and Inverse Design of Flexible Structures by Machine Learning
DESCRIPTION:Recent advances in highly deformable structures necessitate simulation tools that can capture nonlinear geometry and nonlinear material. We propose machine learning\, neural networks (NN) in particular\,...\n______________________________\nThis Event Downloaded From a Helios Calendar Powered Site
LOCATION:Etcheverry Hall - UC Berkeley \, Berkeley\, CA  94720
CATEGORIES:BayAreaScience.org Events
PRIORITY:0
TRANSP:TRANSPARENT
END:VEVENT
END:VCALENDAR