BEGIN:VCALENDAR
VERSION:2.0
METHOD:PUBLISH
CALSCALE:GREGORIAN
PRODID:-//Refresh Web Development//Helios Calendar//EN
X-FROM-URL:https://www.bayareascience.org/calendar/index.php?com=details&eID=36841
X-WR-RELCALID:BayAreaScience.org SETI Live: Unistellar + SETI: Citizen Science Q&A - Livestream 20240925T100000
X-WR-TIMEZONE:America/New_York
X-WR-CALNAME:BayAreaScience.org
BEGIN:VEVENT
URL;VALUE=URI:https://www.bayareascience.org/calendar/index.php?com=detail&eID=36841
DTSTART:20240925T100000
DTEND:20240925T103000
SUMMARY:SETI Live: Unistellar + SETI: Citizen Science Q&A - Livestream
DESCRIPTION:Join Dr. Franck Marchis\, Chief Science Officer and co-founder at Unistellar and director of Citizen Science at SETI Institute\, and Dr. Lauren Sgro\, Outreach Manager at the SETI Institute\, for a...\n______________________________\nThis Event Downloaded From a Helios Calendar Powered Site
LOCATION:SETI Institute -  \, \, CA  
CATEGORIES:BayAreaScience.org Events
PRIORITY:0
TRANSP:TRANSPARENT
END:VEVENT
END:VCALENDAR