BEGIN:VCALENDAR
VERSION:2.0
METHOD:PUBLISH
CALSCALE:GREGORIAN
PRODID:-//Refresh Web Development//Helios Calendar//EN
X-FROM-URL:https://www.bayareascience.org/calendar/index.php?com=details&eID=36847
X-WR-RELCALID:BayAreaScience.org Do Galaxies Breathe, Too? 20240926T190000
X-WR-TIMEZONE:America/New_York
X-WR-CALNAME:BayAreaScience.org
BEGIN:VEVENT
URL;VALUE=URI:https://www.bayareascience.org/calendar/index.php?com=detail&eID=36847
DTSTART:20240926T190000
DTEND:20240926T190000
SUMMARY:Do Galaxies Breathe\, Too?
DESCRIPTION:Galaxies are more than just hundreds of billions of stars\; the gas that fills the space between the stars plays a crucial role in determining the fate of a galaxy. In this presentation\, Dr. Du...\n______________________________\nThis Event Downloaded From a Helios Calendar Powered Site
LOCATION:Los Altos Public Library - 13 S San Antonio Rd Peninsula Astronomical Society\, Los Altos\, CA  94022
CATEGORIES:BayAreaScience.org Events
PRIORITY:0
TRANSP:TRANSPARENT
END:VEVENT
END:VCALENDAR