BEGIN:VCALENDAR
VERSION:2.0
METHOD:PUBLISH
CALSCALE:GREGORIAN
PRODID:-//Refresh Web Development//Helios Calendar//EN
X-FROM-URL:https://www.bayareascience.org/calendar/index.php?com=details&eID=36848
X-WR-RELCALID:BayAreaScience.org Morning Hike at Rancho Cañada del Oro 20241026T093000
X-WR-TIMEZONE:America/New_York
X-WR-CALNAME:BayAreaScience.org
BEGIN:VEVENT
URL;VALUE=URI:https://www.bayareascience.org/calendar/index.php?com=detail&eID=36848
DTSTART:20241026T093000
DTEND:20241026T120000
SUMMARY:Morning Hike at Rancho Cañada del Oro
DESCRIPTION:Join Peninsula Open Space Trust for an excursion where you’ll explore the Mayfair Ranch - Longwall Canyon trails of Rancho Cañada del Oro! You will be guided by POST Ambassadors who will share...\n______________________________\nThis Event Downloaded From a Helios Calendar Powered Site
LOCATION:Rancho Canada Del Oro Open Space Preserve - 4289 Casa Loma Rd \, Morgan Hill\, CA  95037
CATEGORIES:BayAreaScience.org Events
PRIORITY:0
TRANSP:TRANSPARENT
END:VEVENT
END:VCALENDAR