BEGIN:VCALENDAR
VERSION:2.0
METHOD:PUBLISH
CALSCALE:GREGORIAN
PRODID:-//Refresh Web Development//Helios Calendar//EN
X-FROM-URL:https://www.bayareascience.org/calendar/index.php?com=details&eID=36849
X-WR-RELCALID:BayAreaScience.org Raptor Fest at Rancho San Vicente! 20241116T093000
X-WR-TIMEZONE:America/New_York
X-WR-CALNAME:BayAreaScience.org
BEGIN:VEVENT
URL;VALUE=URI:https://www.bayareascience.org/calendar/index.php?com=detail&eID=36849
DTSTART:20241116T093000
DTEND:20241116T140000
SUMMARY:Raptor Fest at Rancho San Vicente!
DESCRIPTION:Join POST and Santa Clara County Parks for an educational experience like no other:...\n______________________________\nThis Event Downloaded From a Helios Calendar Powered Site
LOCATION:Rancho San Vicente Open Space Preserve - 21151 McKean Rd \, San Jose\, CA  95120
CATEGORIES:BayAreaScience.org Events
PRIORITY:0
TRANSP:TRANSPARENT
END:VEVENT
END:VCALENDAR