BEGIN:VCALENDAR
VERSION:2.0
METHOD:PUBLISH
CALSCALE:GREGORIAN
PRODID:-//Refresh Web Development//Helios Calendar//EN
X-FROM-URL:https://www.bayareascience.org/calendar/index.php?com=details&eID=36854
X-WR-RELCALID:BayAreaScience.org Electric Home Tour 2024 20241019T110000
X-WR-TIMEZONE:America/New_York
X-WR-CALNAME:BayAreaScience.org
BEGIN:VEVENT
URL;VALUE=URI:https://www.bayareascience.org/calendar/index.php?com=detail&eID=36854
DTSTART:20241019T110000
DTEND:20241019T150000
SUMMARY:Electric Home Tour 2024
DESCRIPTION:This fall\, Acterra: Action for a Healthy Planet (Acterra) invites the public to explore innovative\, electrified homes across the Bay Area. Homeowners throughout...\n______________________________\nThis Event Downloaded From a Helios Calendar Powered Site
LOCATION:Varies -  \, \, CA  
CATEGORIES:BayAreaScience.org Events
PRIORITY:0
TRANSP:TRANSPARENT
END:VEVENT
END:VCALENDAR