BEGIN:VCALENDAR
VERSION:2.0
METHOD:PUBLISH
CALSCALE:GREGORIAN
PRODID:-//Refresh Web Development//Helios Calendar//EN
X-FROM-URL:https://www.bayareascience.org/calendar/index.php?com=details&eID=36855
X-WR-RELCALID:BayAreaScience.org An Earthquake Crawl of the East Bay 20241012T110000
X-WR-TIMEZONE:America/New_York
X-WR-CALNAME:BayAreaScience.org
BEGIN:VEVENT
URL;VALUE=URI:https://www.bayareascience.org/calendar/index.php?com=detail&eID=36855
DTSTART:20241012T110000
DTEND:20241012T153000
SUMMARY:An Earthquake Crawl of the East Bay
DESCRIPTION:Come hang out with geologist Steve Newton as we explore the East Bay’s earthquake history on a fun and informative crawl!We’ll start our earthquake tour in Fremont\, and carpool up the...\n______________________________\nThis Event Downloaded From a Helios Calendar Powered Site
LOCATION:Arroyo Agua Caliente Park Playground - Paseo Padre Parkway \, Fremont\, CA  94539
CATEGORIES:BayAreaScience.org Events
PRIORITY:0
TRANSP:TRANSPARENT
END:VEVENT
END:VCALENDAR