BEGIN:VCALENDAR
VERSION:2.0
METHOD:PUBLISH
CALSCALE:GREGORIAN
PRODID:-//Refresh Web Development//Helios Calendar//EN
X-FROM-URL:https://www.bayareascience.org/calendar/index.php?com=details&eID=36856
X-WR-RELCALID:BayAreaScience.org  An Exploration of the Milky Way: Our Cosmic Home 20241202T193000
X-WR-TIMEZONE:America/New_York
X-WR-CALNAME:BayAreaScience.org
BEGIN:VEVENT
URL;VALUE=URI:https://www.bayareascience.org/calendar/index.php?com=detail&eID=36856
DTSTART:20241202T193000
DTEND:20241202T210000
SUMMARY: An Exploration of the Milky Way: Our Cosmic Home
DESCRIPTION:Our Universe is made up of many billions of galaxies\, yet astronomers are still trying to figure out how they form\, evolve\, and assemble themselves. The question of how and when galaxies - including...\n______________________________\nThis Event Downloaded From a Helios Calendar Powered Site
LOCATION:California Academy of Sciences - 55 Music Concourse Dr. \, San Francisco\, CA USA 94118
CATEGORIES:BayAreaScience.org Events
PRIORITY:0
TRANSP:TRANSPARENT
END:VEVENT
END:VCALENDAR