BEGIN:VCALENDAR
VERSION:2.0
METHOD:PUBLISH
CALSCALE:GREGORIAN
PRODID:-//Refresh Web Development//Helios Calendar//EN
X-FROM-URL:https://www.bayareascience.org/calendar/index.php?com=details&eID=36860
X-WR-RELCALID:BayAreaScience.org Gem & Mineral Show 20241012T100000
X-WR-TIMEZONE:America/New_York
X-WR-CALNAME:BayAreaScience.org
BEGIN:VEVENT
URL;VALUE=URI:https://www.bayareascience.org/calendar/index.php?com=detail&eID=36860
DTSTART:20241012T100000
DTEND:20241012T170000
SUMMARY:Gem & Mineral Show
DESCRIPTION:Joint annual Gem & Mineral Show hosted by Peninsula Gem & Geology Society and Sequoia Gem & Mineral Society.There will be display cases of our clubs'...\n______________________________\nThis Event Downloaded From a Helios Calendar Powered Site
LOCATION:Redwood City Community Activities Building - 1400 Roosevelt Ave \, Redwood City\, CA  94061
CATEGORIES:BayAreaScience.org Events
PRIORITY:0
TRANSP:TRANSPARENT
END:VEVENT
END:VCALENDAR