BEGIN:VCALENDAR
VERSION:2.0
METHOD:PUBLISH
CALSCALE:GREGORIAN
PRODID:-//Refresh Web Development//Helios Calendar//EN
X-FROM-URL:https://www.bayareascience.org/calendar/index.php?com=details&eID=36864
X-WR-RELCALID:BayAreaScience.org Right in your backyard: The plight of the North Pacific right whale - Livestream 20241119T190000
X-WR-TIMEZONE:America/New_York
X-WR-CALNAME:BayAreaScience.org
BEGIN:VEVENT
URL;VALUE=URI:https://www.bayareascience.org/calendar/index.php?com=detail&eID=36864
DTSTART:20241119T190000
DTEND:20241119T203000
SUMMARY:Right in your backyard: The plight of the North Pacific right whale - Livestream
DESCRIPTION:Once numbering in the tens of thousands\, the North Pacific right whale was driven to the brink of extinction\; now it's estimated that fewer than 50 animals remain in the eastern population....\n______________________________\nThis Event Downloaded From a Helios Calendar Powered Site
LOCATION:American Cetacean Society -  \, \, CA  
CATEGORIES:BayAreaScience.org Events
PRIORITY:0
TRANSP:TRANSPARENT
END:VEVENT
END:VCALENDAR