BEGIN:VCALENDAR
VERSION:2.0
METHOD:PUBLISH
CALSCALE:GREGORIAN
PRODID:-//Refresh Web Development//Helios Calendar//EN
X-FROM-URL:https://www.bayareascience.org/calendar/index.php?com=details&eID=36865
X-WR-RELCALID:BayAreaScience.org NightLife 20241024T180000
X-WR-TIMEZONE:America/New_York
X-WR-CALNAME:BayAreaScience.org
BEGIN:VEVENT
URL;VALUE=URI:https://www.bayareascience.org/calendar/index.php?com=detail&eID=36865
DTSTART:20241024T180000
DTEND:20241024T220000
SUMMARY:NightLife
DESCRIPTION:Calling all creatures of the night: explore the nocturnal side of the Academy at NightLife and see what's revealed. With live DJs\, outdoor bars\, ambiance lighting\, and nearly 60\,000 live animals...\n______________________________\nThis Event Downloaded From a Helios Calendar Powered Site
LOCATION:California Academy of Sciences - 55 Music Concourse Dr. \, San Francisco\, CA USA 94118
CATEGORIES:BayAreaScience.org Events
PRIORITY:0
TRANSP:TRANSPARENT
END:VEVENT
END:VCALENDAR