BEGIN:VCALENDAR
VERSION:2.0
METHOD:PUBLISH
CALSCALE:GREGORIAN
PRODID:-//Refresh Web Development//Helios Calendar//EN
X-FROM-URL:https://www.bayareascience.org/calendar/index.php?com=details&eID=36876
X-WR-RELCALID:BayAreaScience.org  How the East Bay Got Its Regional Parks - Livestream 20241017T190000
X-WR-TIMEZONE:America/New_York
X-WR-CALNAME:BayAreaScience.org
BEGIN:VEVENT
URL;VALUE=URI:https://www.bayareascience.org/calendar/index.php?com=detail&eID=36876
DTSTART:20241017T190000
DTEND:20241017T190000
SUMMARY: How the East Bay Got Its Regional Parks - Livestream
DESCRIPTION:Celebrate the 90th anniversary of the founding of the East Bay Regional Park District with an evening of short presentations about the history of the Park District and its role in protecting birds.Speakers:Amelia...\n______________________________\nThis Event Downloaded From a Helios Calendar Powered Site
LOCATION:Golden Gate Bird Alliance -  \, \, CA  
CATEGORIES:BayAreaScience.org Events
PRIORITY:0
TRANSP:TRANSPARENT
END:VEVENT
END:VCALENDAR