BEGIN:VCALENDAR
VERSION:2.0
METHOD:PUBLISH
CALSCALE:GREGORIAN
PRODID:-//Refresh Web Development//Helios Calendar//EN
X-FROM-URL:https://www.bayareascience.org/calendar/index.php?com=details&eID=36877
X-WR-RELCALID:BayAreaScience.org  Bay Area Planetary Science Conference 20241016T090000
X-WR-TIMEZONE:America/New_York
X-WR-CALNAME:BayAreaScience.org
BEGIN:VEVENT
URL;VALUE=URI:https://www.bayareascience.org/calendar/index.php?com=detail&eID=36877
DTSTART:20241016T090000
DTEND:20241016T090000
SUMMARY: Bay Area Planetary Science Conference
DESCRIPTION:The Bay Area Planetary Science (BAPS) Conference was created to bolster collaborations among planetary enthusiasts around the Bay Area\, CA. We welcome participants at...\n______________________________\nThis Event Downloaded From a Helios Calendar Powered Site
LOCATION:SETI Institute: SETI Talks - 339 North Bernardo Ave Suite 200\, Mountain View\, CA  94043
CATEGORIES:BayAreaScience.org Events
PRIORITY:0
TRANSP:TRANSPARENT
END:VEVENT
END:VCALENDAR