BEGIN:VCALENDAR
VERSION:2.0
METHOD:PUBLISH
CALSCALE:GREGORIAN
PRODID:-//Refresh Web Development//Helios Calendar//EN
X-FROM-URL:https://www.bayareascience.org/calendar/index.php?com=details&eID=36883
X-WR-RELCALID:BayAreaScience.org Maker Faire Bay Area 20241020T100000
X-WR-TIMEZONE:America/New_York
X-WR-CALNAME:BayAreaScience.org
BEGIN:VEVENT
URL;VALUE=URI:https://www.bayareascience.org/calendar/index.php?com=detail&eID=36883
DTSTART:20241020T100000
DTEND:20241020T170000
SUMMARY:Maker Faire Bay Area
DESCRIPTION:See the weblink for information on activities\, classes and schedules\, talks\, and free ferry shuttle service from Vallejo (Saturday and Sunday only).Single day advance tickets: $48 General\,...\n______________________________\nThis Event Downloaded From a Helios Calendar Powered Site
LOCATION:Mare Island Naval Shipyard - 560 Nimitz Ave \, Mare Island\, CA  94592
CATEGORIES:BayAreaScience.org Events
PRIORITY:0
TRANSP:TRANSPARENT
END:VEVENT
END:VCALENDAR