BEGIN:VCALENDAR
VERSION:2.0
METHOD:PUBLISH
CALSCALE:GREGORIAN
PRODID:-//Refresh Web Development//Helios Calendar//EN
X-FROM-URL:https://www.bayareascience.org/calendar/index.php?com=details&eID=36891
X-WR-RELCALID:BayAreaScience.org Understanding and Responding to the Current Mpox Outbreak - Liveestream 20241007T080000
X-WR-TIMEZONE:America/New_York
X-WR-CALNAME:BayAreaScience.org
BEGIN:VEVENT
URL;VALUE=URI:https://www.bayareascience.org/calendar/index.php?com=detail&eID=36891
DTSTART:20241007T080000
DTEND:20241007T090000
SUMMARY:Understanding and Responding to the Current Mpox Outbreak - Liveestream
DESCRIPTION:The recent\, rapid spread of the new clade 1B strain of mpox (formerly called monkeypox) in Central Africa has prompted the second \n______________________________\nThis Event Downloaded From a Helios Calendar Powered Site
LOCATION:Stanford University -  \, \, CA  
CATEGORIES:BayAreaScience.org Events
PRIORITY:0
TRANSP:TRANSPARENT
END:VEVENT
END:VCALENDAR