BEGIN:VCALENDAR
VERSION:2.0
METHOD:PUBLISH
CALSCALE:GREGORIAN
PRODID:-//Refresh Web Development//Helios Calendar//EN
X-FROM-URL:https://www.bayareascience.org/calendar/index.php?com=details&eID=36896
X-WR-RELCALID:BayAreaScience.org Reducing Risk and Uncertainty Associated with Nuclear Waste Processing and Disposal: A Hanford Tank Waste Case Study - Livestream 20241102T103000
X-WR-TIMEZONE:America/New_York
X-WR-CALNAME:BayAreaScience.org
BEGIN:VEVENT
URL;VALUE=URI:https://www.bayareascience.org/calendar/index.php?com=detail&eID=36896
DTSTART:20241102T103000
DTEND:20241102T120000
SUMMARY:Reducing Risk and Uncertainty Associated with Nuclear Waste Processing and Disposal: A Hanford Tank Waste Case Study - Livestream
DESCRIPTION:The Hanford site in Washington State\, which produced plutonium for the US weapons program\, is the most contaminated nuclear site in the nation and is its largest environmental clean-up activity....\n______________________________\nThis Event Downloaded From a Helios Calendar Powered Site
LOCATION:California Section American Chemical Society -  \, \, CA  
CATEGORIES:BayAreaScience.org Events
PRIORITY:0
TRANSP:TRANSPARENT
END:VEVENT
END:VCALENDAR