BEGIN:VCALENDAR
VERSION:2.0
METHOD:PUBLISH
CALSCALE:GREGORIAN
PRODID:-//Refresh Web Development//Helios Calendar//EN
X-FROM-URL:https://www.bayareascience.org/calendar/index.php?com=details&eID=36904
X-WR-RELCALID:BayAreaScience.org Reprogramming Cellular Function: Molecular Glues for transcription factors 20250403T103000
X-WR-TIMEZONE:America/New_York
X-WR-CALNAME:BayAreaScience.org
BEGIN:VEVENT
URL;VALUE=URI:https://www.bayareascience.org/calendar/index.php?com=detail&eID=36904
DTSTART:20250403T103000
DTEND:20250403T113000
SUMMARY:Reprogramming Cellular Function: Molecular Glues for transcription factors
DESCRIPTION:Molecular glues are small molecules that exert their pharmacological effects by inducing new protein-protein interactions. Originally identified as the mechanism of natural product macrocycles...\n______________________________\nThis Event Downloaded From a Helios Calendar Powered Site
LOCATION:Innovative Genomics Institute Building (IGIB) - Oxford St \, Berkeley\, CA United States 94704
CATEGORIES:BayAreaScience.org Events
PRIORITY:0
TRANSP:TRANSPARENT
END:VEVENT
END:VCALENDAR