BEGIN:VCALENDAR
VERSION:2.0
METHOD:PUBLISH
CALSCALE:GREGORIAN
PRODID:-//Refresh Web Development//Helios Calendar//EN
X-FROM-URL:https://www.bayareascience.org/calendar/index.php?com=details&eID=36907
X-WR-RELCALID:BayAreaScience.org  Owls of the Tennessee Valley 20241005T173000
X-WR-TIMEZONE:America/New_York
X-WR-CALNAME:BayAreaScience.org
BEGIN:VEVENT
URL;VALUE=URI:https://www.bayareascience.org/calendar/index.php?com=detail&eID=36907
DTSTART:20241005T173000
DTEND:20241005T203000
SUMMARY: Owls of the Tennessee Valley
DESCRIPTION:Join us on an easy four-mile\, three hour dusk hike through the Tennessee Valley where we will search for and learn more about the owls that reside in and visit the Tennessee Valley.Registration...\n______________________________\nThis Event Downloaded From a Helios Calendar Powered Site
LOCATION:Tennesee Valley Trailhead - 591 Tennessee Valley Rd \, Mill Valley\, CA  94941
CATEGORIES:BayAreaScience.org Events
PRIORITY:0
TRANSP:TRANSPARENT
END:VEVENT
END:VCALENDAR