BEGIN:VCALENDAR
VERSION:2.0
METHOD:PUBLISH
CALSCALE:GREGORIAN
PRODID:-//Refresh Web Development//Helios Calendar//EN
X-FROM-URL:https://www.bayareascience.org/calendar/index.php?com=details&eID=36908
X-WR-RELCALID:BayAreaScience.org Seeing without labels: Applied AI at the National Library of Sweden 20241009T143000
X-WR-TIMEZONE:America/New_York
X-WR-CALNAME:BayAreaScience.org
BEGIN:VEVENT
URL;VALUE=URI:https://www.bayareascience.org/calendar/index.php?com=detail&eID=36908
DTSTART:20241009T143000
DTEND:20241009T153000
SUMMARY:Seeing without labels: Applied AI at the National Library of Sweden
DESCRIPTION:While the digital archives of memory institutions have expanded exponentially in recent years\, much of this material remains inaccessible. With the advent of mass digitization programs and the...\n______________________________\nThis Event Downloaded From a Helios Calendar Powered Site
LOCATION:Hohbach Hall\, Room 122 - 557 Escondido Mall Stanford University\, Stanford\, CA  94304
CATEGORIES:BayAreaScience.org Events
PRIORITY:0
TRANSP:TRANSPARENT
END:VEVENT
END:VCALENDAR