BEGIN:VCALENDAR
VERSION:2.0
METHOD:PUBLISH
CALSCALE:GREGORIAN
PRODID:-//Refresh Web Development//Helios Calendar//EN
X-FROM-URL:https://www.bayareascience.org/calendar/index.php?com=details&eID=36910
X-WR-RELCALID:BayAreaScience.org Discovering Cognitive Structure using Large-Scale Social Data and Artificial Intelligence 20241021T123000
X-WR-TIMEZONE:America/New_York
X-WR-CALNAME:BayAreaScience.org
BEGIN:VEVENT
URL;VALUE=URI:https://www.bayareascience.org/calendar/index.php?com=detail&eID=36910
DTSTART:20241021T123000
DTEND:20241021T132000
SUMMARY:Discovering Cognitive Structure using Large-Scale Social Data and Artificial Intelligence
DESCRIPTION:\n______________________________\nThis Event Downloaded From a Helios Calendar Powered Site
LOCATION:Margaret Jacks Hall (Bldg 460) - Stanford University 450 Serra Mall\, Stanford\, CA  94305
CATEGORIES:BayAreaScience.org Events
PRIORITY:0
TRANSP:TRANSPARENT
END:VEVENT
END:VCALENDAR