BEGIN:VCALENDAR
VERSION:2.0
METHOD:PUBLISH
CALSCALE:GREGORIAN
PRODID:-//Refresh Web Development//Helios Calendar//EN
X-FROM-URL:https://www.bayareascience.org/calendar/index.php?com=details&eID=36913
X-WR-RELCALID:BayAreaScience.org Baking With the Stars, Recipes for Getting Started in Astrophotography 20241026T193000
X-WR-TIMEZONE:America/New_York
X-WR-CALNAME:BayAreaScience.org
BEGIN:VEVENT
URL;VALUE=URI:https://www.bayareascience.org/calendar/index.php?com=detail&eID=36913
DTSTART:20241026T193000
DTEND:20241026T193000
SUMMARY:Baking With the Stars\, Recipes for Getting Started in Astrophotography
DESCRIPTION:Baking and Astrophotography share many things in common: You need the right equipment\, attention to detail\, and a creative flair. If it seems intimidating\, following a recipe can be a great way...\n______________________________\nThis Event Downloaded From a Helios Calendar Powered Site
LOCATION:East Bay Astronomical Society - Chabot Space & Science Center\, 10000 Skyline Blvd Classroom 4 formerly knows as Copernicus\, Oakland\, CA  94619
CATEGORIES:BayAreaScience.org Events
PRIORITY:0
TRANSP:TRANSPARENT
END:VEVENT
END:VCALENDAR