BEGIN:VCALENDAR
VERSION:2.0
METHOD:PUBLISH
CALSCALE:GREGORIAN
PRODID:-//Refresh Web Development//Helios Calendar//EN
X-FROM-URL:https://www.bayareascience.org/calendar/index.php?com=details&eID=36914
X-WR-RELCALID:BayAreaScience.org 'Golden Gate: Building the Mighty Bridge' book signing 20241013T110000
X-WR-TIMEZONE:America/New_York
X-WR-CALNAME:BayAreaScience.org
BEGIN:VEVENT
URL;VALUE=URI:https://www.bayareascience.org/calendar/index.php?com=detail&eID=36914
DTSTART:20241013T110000
DTEND:20241013T130000
SUMMARY:'Golden Gate: Building the Mighty Bridge' book signing
DESCRIPTION:\n______________________________\nThis Event Downloaded From a Helios Calendar Powered Site
LOCATION:Golden Gate Bridge Welcome Center - Golden Gate Bridge Plaza \, San Francisco\, CA  94129
CATEGORIES:BayAreaScience.org Events
PRIORITY:0
TRANSP:TRANSPARENT
END:VEVENT
END:VCALENDAR