BEGIN:VCALENDAR
VERSION:2.0
METHOD:PUBLISH
CALSCALE:GREGORIAN
PRODID:-//Refresh Web Development//Helios Calendar//EN
X-FROM-URL:https://www.bayareascience.org/calendar/index.php?com=details&eID=36922
X-WR-RELCALID:BayAreaScience.org First Friday: SPOOKY ASTRONOMY 20241101T180000
X-WR-TIMEZONE:America/New_York
X-WR-CALNAME:BayAreaScience.org
BEGIN:VEVENT
URL;VALUE=URI:https://www.bayareascience.org/calendar/index.php?com=detail&eID=36922
DTSTART:20241101T180000
DTEND:20241101T220000
SUMMARY:First Friday: SPOOKY ASTRONOMY
DESCRIPTION:First Friday: SPOOKY ASTRONOMY is creeping up on you with a night of cosmic chills and family thrills! Join us for a frightfully fun evening featuring live music by local band Side Pony and the...\n______________________________\nThis Event Downloaded From a Helios Calendar Powered Site
LOCATION:Chabot Space and Science Center - 10000 Skyline Blvd \, Oakland\, CA USA 94619
CATEGORIES:BayAreaScience.org Events
PRIORITY:0
TRANSP:TRANSPARENT
END:VEVENT
END:VCALENDAR