BEGIN:VCALENDAR
VERSION:2.0
METHOD:PUBLISH
CALSCALE:GREGORIAN
PRODID:-//Refresh Web Development//Helios Calendar//EN
X-FROM-URL:https://www.bayareascience.org/calendar/index.php?com=details&eID=36926
X-WR-RELCALID:BayAreaScience.org  Broadband Submarine Fiber Sensing: Unveiling Ocean Dynamics from Acoustics to Tsunami Waves - Livestream 20241204T110000
X-WR-TIMEZONE:America/New_York
X-WR-CALNAME:BayAreaScience.org
BEGIN:VEVENT
URL;VALUE=URI:https://www.bayareascience.org/calendar/index.php?com=detail&eID=36926
DTSTART:20241204T110000
DTEND:20241204T120000
SUMMARY: Broadband Submarine Fiber Sensing: Unveiling Ocean Dynamics from Acoustics to Tsunami Waves - Livestream
DESCRIPTION:Imagine transforming the...\n______________________________\nThis Event Downloaded From a Helios Calendar Powered Site
LOCATION:Monterey Bay Research Institute -  \, \, CA  
CATEGORIES:BayAreaScience.org Events
PRIORITY:0
TRANSP:TRANSPARENT
END:VEVENT
END:VCALENDAR