BEGIN:VCALENDAR
VERSION:2.0
METHOD:PUBLISH
CALSCALE:GREGORIAN
PRODID:-//Refresh Web Development//Helios Calendar//EN
X-FROM-URL:https://www.bayareascience.org/calendar/index.php?com=details&eID=36932
X-WR-RELCALID:BayAreaScience.org Butterfly Walk in the Garden 20241021T133000
X-WR-TIMEZONE:America/New_York
X-WR-CALNAME:BayAreaScience.org
BEGIN:VEVENT
URL;VALUE=URI:https://www.bayareascience.org/calendar/index.php?com=detail&eID=36932
DTSTART:20241021T133000
DTEND:20241021T143000
SUMMARY:Butterfly Walk in the Garden
DESCRIPTION:Join our butterfly docent specialist Sally Levinson and Andy Liu for a guided walk through the Garden in search of butterflies\, as you learn about their plant relationships and amazing life cycle....\n______________________________\nThis Event Downloaded From a Helios Calendar Powered Site
LOCATION:UC Botanical Garden - 200 Centennial Drive \, Berkeley\, CA  94720
CATEGORIES:BayAreaScience.org Events
PRIORITY:0
TRANSP:TRANSPARENT
END:VEVENT
END:VCALENDAR