BEGIN:VCALENDAR
VERSION:2.0
METHOD:PUBLISH
CALSCALE:GREGORIAN
PRODID:-//Refresh Web Development//Helios Calendar//EN
X-FROM-URL:https://www.bayareascience.org/calendar/index.php?com=details&eID=36934
X-WR-RELCALID:BayAreaScience.org Science Saturday: Monarch Madness! 20241130T100000
X-WR-TIMEZONE:America/New_York
X-WR-CALNAME:BayAreaScience.org
BEGIN:VEVENT
URL;VALUE=URI:https://www.bayareascience.org/calendar/index.php?com=detail&eID=36934
DTSTART:20241130T100000
DTEND:20241130T150000
SUMMARY:Science Saturday: Monarch Madness!
DESCRIPTION:Join us for our Free Science Saturday event\, where we will explore the fascinating world of monarch butterflies. Learn about their incredible migratory journey\, the challenges they face\, and the...\n______________________________\nThis Event Downloaded From a Helios Calendar Powered Site
LOCATION:Pacific Grove Museum of Natural History - 165 Forest Ave \, Pacific Grove\, CA  93950
CATEGORIES:BayAreaScience.org Events
PRIORITY:0
TRANSP:TRANSPARENT
END:VEVENT
END:VCALENDAR