BEGIN:VCALENDAR
VERSION:2.0
METHOD:PUBLISH
CALSCALE:GREGORIAN
PRODID:-//Refresh Web Development//Helios Calendar//EN
X-FROM-URL:https://www.bayareascience.org/calendar/index.php?com=details&eID=36935
X-WR-RELCALID:BayAreaScience.org Science on Tap: CoRE: Supporting and Empowering Women in Academia 20241030T190000
X-WR-TIMEZONE:America/New_York
X-WR-CALNAME:BayAreaScience.org
BEGIN:VEVENT
URL;VALUE=URI:https://www.bayareascience.org/calendar/index.php?com=detail&eID=36935
DTSTART:20241030T190000
DTEND:20241030T190000
SUMMARY:Science on Tap: CoRE: Supporting and Empowering Women in Academia
DESCRIPTION:CoRE (for Community of Replenishment and Empowerment) is devoted to supporting and empowering women in academia through intensive weekend retreats. I will talk about the 30-year history of CoRE...\n______________________________\nThis Event Downloaded From a Helios Calendar Powered Site
LOCATION:Museum of Art and History - 705 Front St Back Patio\, Santa Cruz\, CA  95060
CATEGORIES:BayAreaScience.org Events
PRIORITY:0
TRANSP:TRANSPARENT
END:VEVENT
END:VCALENDAR