BEGIN:VCALENDAR
VERSION:2.0
METHOD:PUBLISH
CALSCALE:GREGORIAN
PRODID:-//Refresh Web Development//Helios Calendar//EN
X-FROM-URL:https://www.bayareascience.org/calendar/index.php?com=details&eID=36936
X-WR-RELCALID:BayAreaScience.org How can we better prepare for natural disasters? 20241015T170000
X-WR-TIMEZONE:America/New_York
X-WR-CALNAME:BayAreaScience.org
BEGIN:VEVENT
URL;VALUE=URI:https://www.bayareascience.org/calendar/index.php?com=detail&eID=36936
DTSTART:20241015T170000
DTEND:20241015T181500
SUMMARY:How can we better prepare for natural disasters?
DESCRIPTION:Gary Griggs will be diving into his new book\, California Catastrophes: The Natural Disaster History of the Golden State. Meet Gary and learn about the history of the state’s vulnerability...\n______________________________\nThis Event Downloaded From a Helios Calendar Powered Site
LOCATION:Seymour Marine Discovery Center - 100 McAllister Way \, Santa Cruz\, CA  95060
CATEGORIES:BayAreaScience.org Events
PRIORITY:0
TRANSP:TRANSPARENT
END:VEVENT
END:VCALENDAR