BEGIN:VCALENDAR
VERSION:2.0
METHOD:PUBLISH
CALSCALE:GREGORIAN
PRODID:-//Refresh Web Development//Helios Calendar//EN
X-FROM-URL:https://www.bayareascience.org/calendar/index.php?com=details&eID=36950
X-WR-RELCALID:BayAreaScience.org Bats Alive! Get to Know Your Native Nocturnal Friends 20241030T173000
X-WR-TIMEZONE:America/New_York
X-WR-CALNAME:BayAreaScience.org
BEGIN:VEVENT
URL;VALUE=URI:https://www.bayareascience.org/calendar/index.php?com=detail&eID=36950
DTSTART:20241030T173000
DTEND:20241030T193000
SUMMARY:Bats Alive! Get to Know Your Native Nocturnal Friends
DESCRIPTION:\n______________________________\nThis Event Downloaded From a Helios Calendar Powered Site
LOCATION:Youth Science Institute - Vasona Lake Park 333 Blossom Hill Road\, Los Gatos\, CA  
CATEGORIES:BayAreaScience.org Events
PRIORITY:0
TRANSP:TRANSPARENT
END:VEVENT
END:VCALENDAR