BEGIN:VCALENDAR
VERSION:2.0
METHOD:PUBLISH
CALSCALE:GREGORIAN
PRODID:-//Refresh Web Development//Helios Calendar//EN
X-FROM-URL:https://www.bayareascience.org/calendar/index.php?com=details&eID=36951
X-WR-RELCALID:BayAreaScience.org Salamander Search at Sanborn 20250125T103000
X-WR-TIMEZONE:America/New_York
X-WR-CALNAME:BayAreaScience.org
BEGIN:VEVENT
URL;VALUE=URI:https://www.bayareascience.org/calendar/index.php?com=detail&eID=36951
DTSTART:20250125T103000
DTEND:20250125T120000
SUMMARY:Salamander Search at Sanborn
DESCRIPTION:Sanborn is famous for its amphibians\; you just need to do some extra searching to find them! Join us for a fun day of looking under rocks\, logs\, and other unique hiding spots that Sanborn’s Salamanders...\n______________________________\nThis Event Downloaded From a Helios Calendar Powered Site
LOCATION:Sanborn Science and Nature Center - 16055 Sanborn Rd \, Saratoga\, CA  95070
CATEGORIES:BayAreaScience.org Events
PRIORITY:0
TRANSP:TRANSPARENT
END:VEVENT
END:VCALENDAR