BEGIN:VCALENDAR
VERSION:2.0
METHOD:PUBLISH
CALSCALE:GREGORIAN
PRODID:-//Refresh Web Development//Helios Calendar//EN
X-FROM-URL:https://www.bayareascience.org/calendar/index.php?com=details&eID=36953
X-WR-RELCALID:BayAreaScience.org Dinosaur Lookout Grand Opening 20241019T100000
X-WR-TIMEZONE:America/New_York
X-WR-CALNAME:BayAreaScience.org
BEGIN:VEVENT
URL;VALUE=URI:https://www.bayareascience.org/calendar/index.php?com=detail&eID=36953
DTSTART:20241019T100000
DTEND:20241019T170000
SUMMARY:Dinosaur Lookout Grand Opening
DESCRIPTION:A new exhibit is roaring into The Lawrence! Join us for the grand opening of Dinosaur Lookout! Meet five colossal creatures that roar and move in our outdoor dinosaur park. Take...\n______________________________\nThis Event Downloaded From a Helios Calendar Powered Site
LOCATION:Lawrence Hall of Science - 1 Centennial Drive \, Berkeley\, CA USA 94720
CATEGORIES:BayAreaScience.org Events
PRIORITY:0
TRANSP:TRANSPARENT
END:VEVENT
END:VCALENDAR