BEGIN:VCALENDAR
VERSION:2.0
METHOD:PUBLISH
CALSCALE:GREGORIAN
PRODID:-//Refresh Web Development//Helios Calendar//EN
X-FROM-URL:https://www.bayareascience.org/calendar/index.php?com=details&eID=36955
X-WR-RELCALID:BayAreaScience.org Sausal Creek Salmon Stroll 20241110T110000
X-WR-TIMEZONE:America/New_York
X-WR-CALNAME:BayAreaScience.org
BEGIN:VEVENT
URL;VALUE=URI:https://www.bayareascience.org/calendar/index.php?com=detail&eID=36955
DTSTART:20241110T110000
DTEND:20241110T120000
SUMMARY:Sausal Creek Salmon Stroll
DESCRIPTION:Join CalTrout for a walk along Sausal Creek to learn more about salmonid migration and monitoring in the Bay Area. In just one hour\, you’ll discover the fascinating migration journey of Bay Area...\n______________________________\nThis Event Downloaded From a Helios Calendar Powered Site
LOCATION:Dimond Recreation Center - 3860 Hanly Rd \, Oakland\, CA United States 94602
CATEGORIES:BayAreaScience.org Events
PRIORITY:0
TRANSP:TRANSPARENT
END:VEVENT
END:VCALENDAR