BEGIN:VCALENDAR
VERSION:2.0
METHOD:PUBLISH
CALSCALE:GREGORIAN
PRODID:-//Refresh Web Development//Helios Calendar//EN
X-FROM-URL:https://www.bayareascience.org/calendar/index.php?com=details&eID=36957
X-WR-RELCALID:BayAreaScience.org Waterbird trends on Tomales Bay 20241102T110000
X-WR-TIMEZONE:America/New_York
X-WR-CALNAME:BayAreaScience.org
BEGIN:VEVENT
URL;VALUE=URI:https://www.bayareascience.org/calendar/index.php?com=detail&eID=36957
DTSTART:20241102T110000
DTEND:20241102T110000
SUMMARY:Waterbird trends on Tomales Bay
DESCRIPTION:As Audubon Canyon Ranch gears up for another season of winter bird monitoring\, we’d like to share an update about our waterbird bird research to date.  Please join us for a presentation by...\n______________________________\nThis Event Downloaded From a Helios Calendar Powered Site
LOCATION:Cypress Grove Preserve - 20545 Shoreline Highway \, Marshall\, CA  94940
CATEGORIES:BayAreaScience.org Events
PRIORITY:0
TRANSP:TRANSPARENT
END:VEVENT
END:VCALENDAR