BEGIN:VCALENDAR
VERSION:2.0
METHOD:PUBLISH
CALSCALE:GREGORIAN
PRODID:-//Refresh Web Development//Helios Calendar//EN
X-FROM-URL:https://www.bayareascience.org/calendar/index.php?com=details&eID=36961
X-WR-RELCALID:BayAreaScience.org Wonderfest: Nightmare on Main Street: Ghosts of Napa Valley 20241102T160000
X-WR-TIMEZONE:America/New_York
X-WR-CALNAME:BayAreaScience.org
BEGIN:VEVENT
URL;VALUE=URI:https://www.bayareascience.org/calendar/index.php?com=detail&eID=36961
DTSTART:20241102T160000
DTEND:20241102T180000
SUMMARY:Wonderfest: Nightmare on Main Street: Ghosts of Napa Valley
DESCRIPTION: Is...\n______________________________\nThis Event Downloaded From a Helios Calendar Powered Site
LOCATION:Cameo Cinema - 1340 Main St \, St. Helena\, CA  94574
CATEGORIES:BayAreaScience.org Events
PRIORITY:0
TRANSP:TRANSPARENT
END:VEVENT
END:VCALENDAR