BEGIN:VCALENDAR
VERSION:2.0
METHOD:PUBLISH
CALSCALE:GREGORIAN
PRODID:-//Refresh Web Development//Helios Calendar//EN
X-FROM-URL:https://www.bayareascience.org/calendar/index.php?com=details&eID=36965
X-WR-RELCALID:BayAreaScience.org Integrating blue foods into national climate strategies - Livestream 20241022T070000
X-WR-TIMEZONE:America/New_York
X-WR-CALNAME:BayAreaScience.org
BEGIN:VEVENT
URL;VALUE=URI:https://www.bayareascience.org/calendar/index.php?com=detail&eID=36965
DTSTART:20241022T070000
DTEND:20241022T070000
SUMMARY:Integrating blue foods into national climate strategies - Livestream
DESCRIPTION:Blue or aquatic foods - foods that are wild-caught or farmed from oceans\, rivers\, and lakes - are increasingly recognized as a priority for climate action\, yet they are often overlooked in climate...\n______________________________\nThis Event Downloaded From a Helios Calendar Powered Site
LOCATION:Stanford University -  \, \, CA  
CATEGORIES:BayAreaScience.org Events
PRIORITY:0
TRANSP:TRANSPARENT
END:VEVENT
END:VCALENDAR