BEGIN:VCALENDAR
VERSION:2.0
METHOD:PUBLISH
CALSCALE:GREGORIAN
PRODID:-//Refresh Web Development//Helios Calendar//EN
X-FROM-URL:https://www.bayareascience.org/calendar/index.php?com=details&eID=36971
X-WR-RELCALID:BayAreaScience.org Sewers for surveillance: Harnessing wastewater monitoring data for public health action - Livestream 20241022T140000
X-WR-TIMEZONE:America/New_York
X-WR-CALNAME:BayAreaScience.org
BEGIN:VEVENT
URL;VALUE=URI:https://www.bayareascience.org/calendar/index.php?com=detail&eID=36971
DTSTART:20241022T140000
DTEND:20241022T150000
SUMMARY:Sewers for surveillance: Harnessing wastewater monitoring data for public health action - Livestream
DESCRIPTION:This month\, the Bay Area Open Science Group will be joined by Elana Chan\, a Civil & Environmental Engineering PhD Candidate in the Boehm Research Group at Stanford studying how wastewater monitoring...\n______________________________\nThis Event Downloaded From a Helios Calendar Powered Site
LOCATION:Stanford University Libraries -  \, \, CA  
CATEGORIES:BayAreaScience.org Events
PRIORITY:0
TRANSP:TRANSPARENT
END:VEVENT
END:VCALENDAR