BEGIN:VCALENDAR
VERSION:2.0
METHOD:PUBLISH
CALSCALE:GREGORIAN
PRODID:-//Refresh Web Development//Helios Calendar//EN
X-FROM-URL:https://www.bayareascience.org/calendar/index.php?com=details&eID=36972
X-WR-RELCALID:BayAreaScience.org Water for All: Global Solutions for a Changing Climate 20241021T123000
X-WR-TIMEZONE:America/New_York
X-WR-CALNAME:BayAreaScience.org
BEGIN:VEVENT
URL;VALUE=URI:https://www.bayareascience.org/calendar/index.php?com=detail&eID=36972
DTSTART:20241021T123000
DTEND:20241021T133000
SUMMARY:Water for All: Global Solutions for a Changing Climate
DESCRIPTION:As the cumulative effects of population pressure\, increasing wealth and a changing climate intersect with water policies and investments that fail to consider impacts on human health and the natural...\n______________________________\nThis Event Downloaded From a Helios Calendar Powered Site
LOCATION:Shriram Center - Stanford University Room 104\, Stanford\, CA  94305
CATEGORIES:BayAreaScience.org Events
PRIORITY:0
TRANSP:TRANSPARENT
END:VEVENT
END:VCALENDAR