BEGIN:VCALENDAR
VERSION:2.0
METHOD:PUBLISH
CALSCALE:GREGORIAN
PRODID:-//Refresh Web Development//Helios Calendar//EN
X-FROM-URL:https://www.bayareascience.org/calendar/index.php?com=details&eID=36975
X-WR-RELCALID:BayAreaScience.org The Galàpagos 20241121T190000
X-WR-TIMEZONE:America/New_York
X-WR-CALNAME:BayAreaScience.org
BEGIN:VEVENT
URL;VALUE=URI:https://www.bayareascience.org/calendar/index.php?com=detail&eID=36975
DTSTART:20241121T190000
DTEND:20241121T190000
SUMMARY:The Galàpagos
DESCRIPTION:The islands of the Galàpagos offer an almost unmatched biodiverse environment for scientists and naturalists alike to closely study evolution\, ecology and natural history. With a relationship...\n______________________________\nThis Event Downloaded From a Helios Calendar Powered Site
LOCATION:Google SF Community Space - 188 Embarcadero \,  San Francisco\, CA  94105
CATEGORIES:BayAreaScience.org Events
PRIORITY:0
TRANSP:TRANSPARENT
END:VEVENT
END:VCALENDAR