BEGIN:VCALENDAR
VERSION:2.0
METHOD:PUBLISH
CALSCALE:GREGORIAN
PRODID:-//Refresh Web Development//Helios Calendar//EN
X-FROM-URL:https://www.bayareascience.org/calendar/index.php?com=details&eID=36979
X-WR-RELCALID:BayAreaScience.org Metabarcoding 20241025T183000
X-WR-TIMEZONE:America/New_York
X-WR-CALNAME:BayAreaScience.org
BEGIN:VEVENT
URL;VALUE=URI:https://www.bayareascience.org/calendar/index.php?com=detail&eID=36979
DTSTART:20241025T183000
DTEND:20241025T183000
SUMMARY:Metabarcoding
DESCRIPTION:Fungi (and their DNA) are practically everywhere: in soil\, in water\, and on the inside and outside of other organisms. A relatively novel DNA sequencing technique\, called “metabarcoding\,”...\n______________________________\nThis Event Downloaded From a Helios Calendar Powered Site
LOCATION:Sebastopol Grange - 6000 Sebastopol Ave Hwy 12\, Sebastopol\, CA  95472
CATEGORIES:BayAreaScience.org Events
PRIORITY:0
TRANSP:TRANSPARENT
END:VEVENT
END:VCALENDAR