BEGIN:VCALENDAR
VERSION:2.0
METHOD:PUBLISH
CALSCALE:GREGORIAN
PRODID:-//Refresh Web Development//Helios Calendar//EN
X-FROM-URL:https://www.bayareascience.org/calendar/index.php?com=details&eID=36986
X-WR-RELCALID:BayAreaScience.org 51st Santa Cruz Fungus Fair 2025 20250112T090000
X-WR-TIMEZONE:America/New_York
X-WR-CALNAME:BayAreaScience.org
BEGIN:VEVENT
URL;VALUE=URI:https://www.bayareascience.org/calendar/index.php?com=detail&eID=36986
DTSTART:20250112T090000
DTEND:20250112T180000
SUMMARY:51st Santa Cruz Fungus Fair 2025
DESCRIPTION:Come to Santa Cruz and explore the fascinating world of Fungi. Learn interesting and fun facts about the hundreds of beautiful and fascinating species of mushrooms found...\n______________________________\nThis Event Downloaded From a Helios Calendar Powered Site
LOCATION:London Nelson Community Center - 301 Center St \, Santa Cruz\, CA  95060
CATEGORIES:BayAreaScience.org Events
PRIORITY:0
TRANSP:TRANSPARENT
END:VEVENT
END:VCALENDAR