BEGIN:VCALENDAR
VERSION:2.0
METHOD:PUBLISH
CALSCALE:GREGORIAN
PRODID:-//Refresh Web Development//Helios Calendar//EN
X-FROM-URL:https://www.bayareascience.org/calendar/index.php?com=details&eID=36987
X-WR-RELCALID:BayAreaScience.org The 18th Annual BAMS / Point Reyes National Seashore Fungus Fair 20250112T100000
X-WR-TIMEZONE:America/New_York
X-WR-CALNAME:BayAreaScience.org
BEGIN:VEVENT
URL;VALUE=URI:https://www.bayareascience.org/calendar/index.php?com=detail&eID=36987
DTSTART:20250112T100000
DTEND:20250112T160000
SUMMARY:The 18th Annual BAMS / Point Reyes National Seashore Fungus Fair
DESCRIPTION:During the 18th Annual Fungus Fair\, wild mushrooms collected in the park will be on display on the south porch of the Bear Valley Visitor Center with several mushroom-related exhibits inside the...\n______________________________\nThis Event Downloaded From a Helios Calendar Powered Site
LOCATION:Bear Valley Visitor Center - 1 Bear Valley Visitor Center Access Road Red Barn Classroom\, Point Reyes Station\, CA  94956
CATEGORIES:BayAreaScience.org Events
PRIORITY:0
TRANSP:TRANSPARENT
END:VEVENT
END:VCALENDAR