BEGIN:VCALENDAR
VERSION:2.0
METHOD:PUBLISH
CALSCALE:GREGORIAN
PRODID:-//Refresh Web Development//Helios Calendar//EN
X-FROM-URL:https://www.bayareascience.org/calendar/index.php?com=details&eID=36989
X-WR-RELCALID:BayAreaScience.org When Do Firms Oversell or Undersell Their Environmental Sustainability? - Livestream 20241205T160000
X-WR-TIMEZONE:America/New_York
X-WR-CALNAME:BayAreaScience.org
BEGIN:VEVENT
URL;VALUE=URI:https://www.bayareascience.org/calendar/index.php?com=detail&eID=36989
DTSTART:20241205T160000
DTEND:20241205T170000
SUMMARY:When Do Firms Oversell or Undersell Their Environmental Sustainability? - Livestream
DESCRIPTION:Gaku Morio is a Researcher at Hitachi America\, Ltd. He received his M.D. in Engineering from Tokyo University of Agriculture...\n______________________________\nThis Event Downloaded From a Helios Calendar Powered Site
LOCATION:Stanford University -  \, \, CA  
CATEGORIES:BayAreaScience.org Events
PRIORITY:0
TRANSP:TRANSPARENT
END:VEVENT
END:VCALENDAR