BEGIN:VCALENDAR
VERSION:2.0
METHOD:PUBLISH
CALSCALE:GREGORIAN
PRODID:-//Refresh Web Development//Helios Calendar//EN
X-FROM-URL:https://www.bayareascience.org/calendar/index.php?com=details&eID=36992
X-WR-RELCALID:BayAreaScience.org EV Expo  20241116T100000
X-WR-TIMEZONE:America/New_York
X-WR-CALNAME:BayAreaScience.org
BEGIN:VEVENT
URL;VALUE=URI:https://www.bayareascience.org/calendar/index.php?com=detail&eID=36992
DTSTART:20241116T100000
DTEND:20241116T140000
SUMMARY:EV Expo 
DESCRIPTION:Cruise on by the City of Sunnyvale’s first Electric Vehicle (EV) Expo! Learn all the exciting benefits of driving an EVat this FREE event! Join us for a morning talk on the latest financial assistance...\n______________________________\nThis Event Downloaded From a Helios Calendar Powered Site
LOCATION:Sunnyvale Civic Center  - 456 W Olive Ave \, Sunnyvale \, CA  94086 
CATEGORIES:BayAreaScience.org Events
PRIORITY:0
TRANSP:TRANSPARENT
END:VEVENT
END:VCALENDAR