BEGIN:VCALENDAR
VERSION:2.0
METHOD:PUBLISH
CALSCALE:GREGORIAN
PRODID:-//Refresh Web Development//Helios Calendar//EN
X-FROM-URL:https://www.bayareascience.org/calendar/index.php?com=details&eID=37001
X-WR-RELCALID:BayAreaScience.org Environemtal Geophysics: Sensor-Informed Water Budgets, Accounting for the Well-Being of People and Ecosystems 20241121T120000
X-WR-TIMEZONE:America/New_York
X-WR-CALNAME:BayAreaScience.org
BEGIN:VEVENT
URL;VALUE=URI:https://www.bayareascience.org/calendar/index.php?com=detail&eID=37001
DTSTART:20241121T120000
DTEND:20241121T130000
SUMMARY:Environemtal Geophysics: Sensor-Informed Water Budgets\, Accounting for the Well-Being of People and Ecosystems
DESCRIPTION:Speaker: Rosemary Knight\, Stanford UniversityAttend in person or via Zoom\n______________________________\nThis Event Downloaded From a Helios Calendar Powered Site
LOCATION:Mitchell Earth Sciences Building (04-560) - 397 Panama Mall Stanford University\, Stanford\, CA  94305
CATEGORIES:BayAreaScience.org Events
PRIORITY:0
TRANSP:TRANSPARENT
END:VEVENT
END:VCALENDAR