BEGIN:VCALENDAR
VERSION:2.0
METHOD:PUBLISH
CALSCALE:GREGORIAN
PRODID:-//Refresh Web Development//Helios Calendar//EN
X-FROM-URL:https://www.bayareascience.org/calendar/index.php?com=details&eID=37003
X-WR-RELCALID:BayAreaScience.org UC Berkeley Organic Chemistry Seminar 20250422T110000
X-WR-TIMEZONE:America/New_York
X-WR-CALNAME:BayAreaScience.org
BEGIN:VEVENT
URL;VALUE=URI:https://www.bayareascience.org/calendar/index.php?com=detail&eID=37003
DTSTART:20250422T110000
DTEND:20250422T120000
SUMMARY:UC Berkeley Organic Chemistry Seminar
DESCRIPTION:Speaker: Barry O'Keefe\, National Institutes of Health\n______________________________\nThis Event Downloaded From a Helios Calendar Powered Site
LOCATION:Latimer Hall - UC Berkeley Room 120\, Berkeley\, CA  94720
CATEGORIES:BayAreaScience.org Events
PRIORITY:0
TRANSP:TRANSPARENT
END:VEVENT
END:VCALENDAR