BEGIN:VCALENDAR
VERSION:2.0
METHOD:PUBLISH
CALSCALE:GREGORIAN
PRODID:-//Refresh Web Development//Helios Calendar//EN
X-FROM-URL:https://www.bayareascience.org/calendar/index.php?com=details&eID=37008
X-WR-RELCALID:BayAreaScience.org Democratizing California’s water future: data, models, and tools for inclusive decision making 20241028T123000
X-WR-TIMEZONE:America/New_York
X-WR-CALNAME:BayAreaScience.org
BEGIN:VEVENT
URL;VALUE=URI:https://www.bayareascience.org/calendar/index.php?com=detail&eID=37008
DTSTART:20241028T123000
DTEND:20241028T133000
SUMMARY:Democratizing California’s water future: data\, models\, and tools for inclusive decision making
DESCRIPTION:Increasing drought\, extreme floods\, and environmental degradation are taxing California’s water system. Water shortages are borne inequitably and decisions over how water is allocated are constrained...\n______________________________\nThis Event Downloaded From a Helios Calendar Powered Site
LOCATION:Shriram Center - Stanford University Room 104\, Stanford\, CA  94305
CATEGORIES:BayAreaScience.org Events
PRIORITY:0
TRANSP:TRANSPARENT
END:VEVENT
END:VCALENDAR